BEGIN:VCALENDAR
VERSION:2.0
PRODID:-//Journey Of Compassion - ECPv6.15.17.1//NONSGML v1.0//EN
CALSCALE:GREGORIAN
METHOD:PUBLISH
X-WR-CALNAME:Journey Of Compassion
X-ORIGINAL-URL:https://journeyofcompassion.com
X-WR-CALDESC:Events for Journey Of Compassion
REFRESH-INTERVAL;VALUE=DURATION:PT1H
X-Robots-Tag:noindex
X-PUBLISHED-TTL:PT1H
BEGIN:VTIMEZONE
TZID:Europe/London
BEGIN:DAYLIGHT
TZOFFSETFROM:+0000
TZOFFSETTO:+0100
TZNAME:BST
DTSTART:20240331T010000
END:DAYLIGHT
BEGIN:STANDARD
TZOFFSETFROM:+0100
TZOFFSETTO:+0000
TZNAME:GMT
DTSTART:20241027T010000
END:STANDARD
BEGIN:DAYLIGHT
TZOFFSETFROM:+0000
TZOFFSETTO:+0100
TZNAME:BST
DTSTART:20250330T010000
END:DAYLIGHT
BEGIN:STANDARD
TZOFFSETFROM:+0100
TZOFFSETTO:+0000
TZNAME:GMT
DTSTART:20251026T010000
END:STANDARD
BEGIN:DAYLIGHT
TZOFFSETFROM:+0000
TZOFFSETTO:+0100
TZNAME:BST
DTSTART:20260329T010000
END:DAYLIGHT
BEGIN:STANDARD
TZOFFSETFROM:+0100
TZOFFSETTO:+0000
TZNAME:GMT
DTSTART:20261025T010000
END:STANDARD
BEGIN:DAYLIGHT
TZOFFSETFROM:+0000
TZOFFSETTO:+0100
TZNAME:BST
DTSTART:20270328T010000
END:DAYLIGHT
BEGIN:STANDARD
TZOFFSETFROM:+0100
TZOFFSETTO:+0000
TZNAME:GMT
DTSTART:20271031T010000
END:STANDARD
END:VTIMEZONE
BEGIN:VEVENT
DTSTART;TZID=Europe/London:20260301T160000
DTEND;TZID=Europe/London:20260301T180000
DTSTAMP:20260421T125933
CREATED:20260214T234253Z
LAST-MODIFIED:20260214T234253Z
UID:10008287-1772380800-1772388000@journeyofcompassion.com
SUMMARY:Does Gurbani Acknowledge Mental Wellbeing?
DESCRIPTION:Join us for an interactive talk exploring how the timeless wisdom of Gurbani speaks directly to the struggles of the mind…anxiety\, fear\, ego\, attachment\, and inner conflict. \n  \nThrough reflection\, visuals\, and open Q&A\, we’ll look at how these teachings offer practical insight for emotional resilience\, clarity\, and inner stability in today’s world. \n  \nAll are welcome. Come with questions. Leave with contemplation.
URL:https://journeyofcompassion.com/programme/does-gurbani-acknowledge-mental-wellbeing/
LOCATION:Gurdwara Sahib\, Leamington & Warwick\, Gurdwara Sahib\, Leamington & Warwick Tachbrook Park Dr\, Leamington Spa\, CV34 6RH\, United Kingdom
CATEGORIES:Event
ATTACH;FMTTYPE=image/jpeg:https://journeyofcompassion.com/wp-content/uploads/2026/02/2026-2-Talk-Gurbani-wellbeing.jpg
END:VEVENT
BEGIN:VEVENT
DTSTART;TZID=Europe/London:20250919T190000
DTEND;TZID=Europe/London:20250919T210000
DTSTAMP:20260421T125933
CREATED:20250903T223534Z
LAST-MODIFIED:20250903T224646Z
UID:10006161-1758308400-1758315600@journeyofcompassion.com
SUMMARY:The Play Of Birth And Death
DESCRIPTION:Life and death are often seen as opposites\, yet both are part of the same play. In this interactive talk\, Baljit Singh will explore the mystery of birth and death\, and how understanding this cycle can transform our perspective on life. \nThis gathering invites us to reflect on what it means to truly live\, and how to meet the reality of death with acceptance\, awareness\, and compassion. Through reflection and dialogue\, we will uncover how spiritual wisdom can help us embrace both beginnings and endings with balance and clarity. \n🕖 Time: 19:00 – 21:00📅 Date: Friday 19th September 2025📍 Location: Gurdwara Sahib Leamington & Warwick\, Tacbrook Drive\, Leamington Spa\, CV34 6RH\, Hall 3 (2nd Floor) \nAll are welcome to attend this thought-provoking and compassionate session.
URL:https://journeyofcompassion.com/programme/the-play-of-birth-and-death/
LOCATION:Gurdwara Sahib\, Leamington & Warwick\, Gurdwara Sahib\, Leamington & Warwick Tachbrook Park Dr\, Leamington Spa\, CV34 6RH\, United Kingdom
CATEGORIES:Event
ATTACH;FMTTYPE=image/jpeg:https://journeyofcompassion.com/wp-content/uploads/2025/09/2025-09-03-Birth-death.jpg
END:VEVENT
END:VCALENDAR