BEGIN:VCALENDAR
VERSION:2.0
PRODID:-//Journey Of Compassion - ECPv6.15.17.1//NONSGML v1.0//EN
CALSCALE:GREGORIAN
METHOD:PUBLISH
X-WR-CALNAME:Journey Of Compassion
X-ORIGINAL-URL:https://journeyofcompassion.com
X-WR-CALDESC:Events for Journey Of Compassion
REFRESH-INTERVAL;VALUE=DURATION:PT1H
X-Robots-Tag:noindex
X-PUBLISHED-TTL:PT1H
BEGIN:VTIMEZONE
TZID:Europe/London
BEGIN:DAYLIGHT
TZOFFSETFROM:+0000
TZOFFSETTO:+0100
TZNAME:BST
DTSTART:20240331T010000
END:DAYLIGHT
BEGIN:STANDARD
TZOFFSETFROM:+0100
TZOFFSETTO:+0000
TZNAME:GMT
DTSTART:20241027T010000
END:STANDARD
BEGIN:DAYLIGHT
TZOFFSETFROM:+0000
TZOFFSETTO:+0100
TZNAME:BST
DTSTART:20250330T010000
END:DAYLIGHT
BEGIN:STANDARD
TZOFFSETFROM:+0100
TZOFFSETTO:+0000
TZNAME:GMT
DTSTART:20251026T010000
END:STANDARD
BEGIN:DAYLIGHT
TZOFFSETFROM:+0000
TZOFFSETTO:+0100
TZNAME:BST
DTSTART:20260329T010000
END:DAYLIGHT
BEGIN:STANDARD
TZOFFSETFROM:+0100
TZOFFSETTO:+0000
TZNAME:GMT
DTSTART:20261025T010000
END:STANDARD
END:VTIMEZONE
BEGIN:VEVENT
DTSTART;VALUE=DATE:20250529
DTEND;VALUE=DATE:20250602
DTSTAMP:20260421T110724
CREATED:20250516T141141Z
LAST-MODIFIED:20250518T200249Z
UID:10000010-1748476800-1748822399@journeyofcompassion.com
SUMMARY:Awakening Retreat
DESCRIPTION:This is a residential retreat in Derbyshire from 29 May to 1 June 2025 for 60 people from all walks of life (incl. religious and non-religious) \nThe transformative meditation retreat aims to emphasise inner peace and personal growth through: \n• Daily activities such as chanting\, meditation\, walks\, massages\, journaling\, and intimate conversations \n• Evening gatherings focused on singing and fostering connection \n• Understanding motives for a personalised and meaningful experience\, welcoming all\, regardless of religious background or meditation experience \nRegistration 
URL:https://journeyofcompassion.com/programme/awakening-retreat/
ATTACH;FMTTYPE=image/jpeg:https://journeyofcompassion.com/wp-content/uploads/2024/12/Awakening-Retreat-Poster-12.4.24-1.jpg
END:VEVENT
BEGIN:VEVENT
DTSTART;TZID=Europe/London:20250517T171500
DTEND;TZID=Europe/London:20250517T203000
DTSTAMP:20260421T110724
CREATED:20250514T172739Z
LAST-MODIFIED:20250518T200449Z
UID:10000001-1747502100-1747513800@journeyofcompassion.com
SUMMARY:Katha & Kirtan
DESCRIPTION:An evening to chant together\, sing together\, eat together\, and connect together. \nJoin us in a heartfelt space where like-minded souls gather to experience the Divine through Rehraas\, Aarti\, Katha & Kirtan. \nBaljit Singh will be sharing a talk to help deepen our inner connection\, and the whole evening is centred around Sangat community. \nMonthly – 17:15 – 20:30 \nSingh Sabha Gurdwara\, 80 Somerset Road\, Birmingham\, B20 2JB \nIf you’re seeking something deeper\, if you’re craving presence and connection come and join us.
URL:https://journeyofcompassion.com/programme/katha-kirtan/
LOCATION:Singh Sabha Gurdwara\, 80 Somerset Road\, Birmingham\, B20 2JB\, United Kingdom
CATEGORIES:Katha & Kirtan
ATTACH;FMTTYPE=image/jpeg:https://journeyofcompassion.com/wp-content/uploads/2025/05/17MayKirtan-scaled.jpg
END:VEVENT
END:VCALENDAR