BEGIN:VCALENDAR
VERSION:2.0
PRODID:-//Journey Of Compassion - ECPv6.15.17.1//NONSGML v1.0//EN
CALSCALE:GREGORIAN
METHOD:PUBLISH
X-WR-CALNAME:Journey Of Compassion
X-ORIGINAL-URL:https://journeyofcompassion.com
X-WR-CALDESC:Events for Journey Of Compassion
REFRESH-INTERVAL;VALUE=DURATION:PT1H
X-Robots-Tag:noindex
X-PUBLISHED-TTL:PT1H
BEGIN:VTIMEZONE
TZID:Europe/London
BEGIN:DAYLIGHT
TZOFFSETFROM:+0000
TZOFFSETTO:+0100
TZNAME:BST
DTSTART:20240331T010000
END:DAYLIGHT
BEGIN:STANDARD
TZOFFSETFROM:+0100
TZOFFSETTO:+0000
TZNAME:GMT
DTSTART:20241027T010000
END:STANDARD
BEGIN:DAYLIGHT
TZOFFSETFROM:+0000
TZOFFSETTO:+0100
TZNAME:BST
DTSTART:20250330T010000
END:DAYLIGHT
BEGIN:STANDARD
TZOFFSETFROM:+0100
TZOFFSETTO:+0000
TZNAME:GMT
DTSTART:20251026T010000
END:STANDARD
BEGIN:DAYLIGHT
TZOFFSETFROM:+0000
TZOFFSETTO:+0100
TZNAME:BST
DTSTART:20260329T010000
END:DAYLIGHT
BEGIN:STANDARD
TZOFFSETFROM:+0100
TZOFFSETTO:+0000
TZNAME:GMT
DTSTART:20261025T010000
END:STANDARD
END:VTIMEZONE
BEGIN:VEVENT
DTSTART;TZID=Europe/London:20250927T100000
DTEND;TZID=Europe/London:20250927T160000
DTSTAMP:20260421T133049
CREATED:20250831T173955Z
LAST-MODIFIED:20250831T174338Z
UID:10005876-1758967200-1758988800@journeyofcompassion.com
SUMMARY:Expansion Day Retreat
DESCRIPTION:One day retreat – Expansion \n10am – 4pm | Saturday 27th September 2025 \nJoin us for a nourishing one-day retreat dedicated to stillness\, growth\, and heartfelt connection.\nThe day will gently guide you through practices designed to quiet the mind\, open the heart\, and deepen your spiritual journey. \nThis retreat is open to all who wish to pause\, reflect\, and recharge in the company of like-hearted souls. \nNo prior experience is necessary\, just a willingness to come as you are. \nWe look forward to welcoming you to a day of presence\, peace\, and devotional joy. \nRegister HERE
URL:https://journeyofcompassion.com/programme/expansion-day-retreat/
LOCATION:Birmingham\, Birmingham\, United Kingdom
CATEGORIES:Event
ATTACH;FMTTYPE=image/jpeg:https://journeyofcompassion.com/wp-content/uploads/2025/08/2025-09-Day-retreat-expansion.jpg
END:VEVENT
BEGIN:VEVENT
DTSTART;TZID=Europe/London:20250920T171500
DTEND;TZID=Europe/London:20250920T203000
DTSTAMP:20260421T133049
CREATED:20250918T210702Z
LAST-MODIFIED:20250918T212646Z
UID:10006282-1758388500-1758400200@journeyofcompassion.com
SUMMARY:Beyond the Surface
DESCRIPTION:Beyond the Surface – Katha & Kirtan \nAs human beings\, we are complex – our outward actions are only the surface. Beneath lies a web of emotions\, experiences\, and deeper patterns that shape how we move through life. Let’s contemplate together and look beyond appearances\, towards the roots of our being. This will help us to understand each other more\, creating harmony amongst humanity. \nJoin us for an evening of Katha & Kirtan\, where we’ll journey together beyond the surface\, exploring the inner depth of the human experience through timeless wisdom and the power of sacred music. \n🗓 Saturday 20th September 2025\n⏰ 17:15 – 20:30\n📍 Singh Sabha Gurdwara\, 80 Somerset Road\, Birmingham\, B20 2JB
URL:https://journeyofcompassion.com/programme/beyond-the-surface/
LOCATION:Singh Sabha Gurdwara\, 80 Somerset Road\, Birmingham\, B20 2JB\, United Kingdom
CATEGORIES:Katha & Kirtan
ATTACH;FMTTYPE=image/jpeg:https://journeyofcompassion.com/wp-content/uploads/2025/09/2025-09-25-Beyond-surface-scaled.jpg
END:VEVENT
BEGIN:VEVENT
DTSTART;TZID=Europe/London:20250919T190000
DTEND;TZID=Europe/London:20250919T210000
DTSTAMP:20260421T133049
CREATED:20250903T223534Z
LAST-MODIFIED:20250903T224646Z
UID:10006161-1758308400-1758315600@journeyofcompassion.com
SUMMARY:The Play Of Birth And Death
DESCRIPTION:Life and death are often seen as opposites\, yet both are part of the same play. In this interactive talk\, Baljit Singh will explore the mystery of birth and death\, and how understanding this cycle can transform our perspective on life. \nThis gathering invites us to reflect on what it means to truly live\, and how to meet the reality of death with acceptance\, awareness\, and compassion. Through reflection and dialogue\, we will uncover how spiritual wisdom can help us embrace both beginnings and endings with balance and clarity. \n🕖 Time: 19:00 – 21:00📅 Date: Friday 19th September 2025📍 Location: Gurdwara Sahib Leamington & Warwick\, Tacbrook Drive\, Leamington Spa\, CV34 6RH\, Hall 3 (2nd Floor) \nAll are welcome to attend this thought-provoking and compassionate session.
URL:https://journeyofcompassion.com/programme/the-play-of-birth-and-death/
LOCATION:Gurdwara Sahib\, Leamington & Warwick\, Gurdwara Sahib\, Leamington & Warwick Tachbrook Park Dr\, Leamington Spa\, CV34 6RH\, United Kingdom
CATEGORIES:Event
ATTACH;FMTTYPE=image/jpeg:https://journeyofcompassion.com/wp-content/uploads/2025/09/2025-09-03-Birth-death.jpg
END:VEVENT
BEGIN:VEVENT
DTSTART;TZID=Europe/London:20250906T130000
DTEND;TZID=Europe/London:20250906T143000
DTSTAMP:20260421T133049
CREATED:20250901T142848Z
LAST-MODIFIED:20250901T143507Z
UID:10005877-1757163600-1757169000@journeyofcompassion.com
SUMMARY:What Balances the Pain of Suffering - Interactive Talk by Baljit Singh
DESCRIPTION:Join us for a deeply reflective and interactive talk with Baljit Singh on the theme: What Balances the Pain of Suffering. \nThis session explores the challenges of enduring pain\, grief\, and struggle\, and how compassion\, connection\, and wisdom can help us find balance in the face of suffering. \nMany of us carry hidden pain\, and for some\, the weight feels unbearable. This event is dedicated to those who have struggled to find a way forward and to the memory of those who felt they had no other choice but to take their own life. \nTogether\, we will reflect\, share\, and discover tools for resilience\, healing\, and hope. \n🕒 Time: 13:00 – 14:30📅 Date: Saturday 6th September 2025📍 Location: Nanaksar Gurdwara Gursikh Temple\, Foleshill Rd\, Coventry\, CV1 4HWE \nThis event is open to all and will provide a safe\, compassionate space for dialogue\, self-reflection\, and learning.
URL:https://journeyofcompassion.com/programme/what-balances-the-pain-of-suffering-interactive-talk-by-baljit-singh/
LOCATION:Nanaksar Gurdwara Gursikh Temple\, Nanaksar Gurdwara Gursikh Temple\, 226a Foleshill Rd\, Coventry\, CV1 4HW\, United Kingdom
CATEGORIES:Event
ATTACH;FMTTYPE=image/jpeg:https://journeyofcompassion.com/wp-content/uploads/2025/09/2025-09-06-Balance-pain-suffering.jpg
END:VEVENT
BEGIN:VEVENT
DTSTART;TZID=Europe/London:20250830T120000
DTEND;TZID=Europe/London:20250830T150000
DTSTAMP:20260421T133049
CREATED:20250817T201443Z
LAST-MODIFIED:20250817T203227Z
UID:10004045-1756555200-1756566000@journeyofcompassion.com
SUMMARY:Men's only - Play Padel with Sangat
DESCRIPTION:🎾 Men’s Only Padel Event! 🎾📅 Saturday 30th August🕛 12pm – 3pm📍 The Padel Inn\, Units 13-15\, The Great Bridge Centre\, Charles Street\, Birmingham B70 0BF \n🚹 This event is exclusively for men – a chance to come together\, play\, and enjoy in a relaxed atmosphere. \n✅ Free entry🌮 Free food \nAll skill levels welcome – whether you want to play\, watch\, or just soak up the energy! 🥳 \nSee you there\, brothers! 💪
URL:https://journeyofcompassion.com/programme/play-padel-with-sangat/
LOCATION:The Padel Inn\, The Padel Inn\, Units 13-15\, The Great Bridge Centre\, Charles Street\, Birmingham\, B70 0BF\, United Kingdom
CATEGORIES:Event
ATTACH;FMTTYPE=image/jpeg:https://journeyofcompassion.com/wp-content/uploads/2025/08/2025-08-Paddle-Play.jpg
END:VEVENT
BEGIN:VEVENT
DTSTART;TZID=Europe/London:20250822T060000
DTEND;TZID=Europe/London:20250822T073000
DTSTAMP:20260421T133049
CREATED:20250816T181809Z
LAST-MODIFIED:20250817T125818Z
UID:10003237-1755842400-1755847800@journeyofcompassion.com
SUMMARY:40 Day Guided Meditation
DESCRIPTION:40 Day Guided Meditation – Sitting in the Divine’s Lap 🌸 \nOur next round begins today 🧘🏽‍♂️\nLet’s come together each morning for stretches\, breath-work\, Oan sound\, Mool Mantar & awe-filled stillness. \n🗓️ Mon 21st July – Fri 29th August 2025\n🕕 6am – 7:30am (UK time)\n🔗 Join Zoom Meeting
URL:https://journeyofcompassion.com/programme/40-day-guided-meditation-3-2/2025-08-22/
CATEGORIES:Meditation
ATTACH;FMTTYPE=image/jpeg:https://journeyofcompassion.com/wp-content/uploads/2025/07/2025-08-meditation-POSTPONED.jpg
END:VEVENT
BEGIN:VEVENT
DTSTART;TZID=Europe/London:20250816T171500
DTEND;TZID=Europe/London:20250816T203000
DTSTAMP:20260421T133049
CREATED:20250811T112643Z
LAST-MODIFIED:20250811T125359Z
UID:10004044-1755364500-1755376200@journeyofcompassion.com
SUMMARY:Where Awareness & Madness Meet
DESCRIPTION:Where Awareness & Madness Meet\nGuru Nanak’s path is where the madness of devotion merges with awareness. \nJoin us for an evening of Rehraas Sahib\, Aarti\, Katha and Kirtan\, immersing in the divine song that unites these two states into one living experience. \nCome with an open heart\, leave with it overflowing.
URL:https://journeyofcompassion.com/programme/where-awareness-madness-meet/
LOCATION:Singh Sabha Gurdwara\, 80 Somerset Road\, Birmingham\, B20 2JB\, United Kingdom
CATEGORIES:Katha & Kirtan
ATTACH;FMTTYPE=image/jpeg:https://journeyofcompassion.com/wp-content/uploads/2025/08/2025-08-Awareness-madness-scaled.jpg
END:VEVENT
BEGIN:VEVENT
DTSTART;TZID=Europe/London:20250719T100000
DTEND;TZID=Europe/London:20250719T140000
DTSTAMP:20260421T133049
CREATED:20250702T185733Z
LAST-MODIFIED:20250702T185923Z
UID:10000965-1752919200-1752933600@journeyofcompassion.com
SUMMARY:Conscious Walk
DESCRIPTION:Come join Journey of Compassion for a special Conscious Walk on:\n🗓️ Saturday 19th July 2025 | 10am – 2pm\n📍 Cannock Chase\, Brocton (full details on poster) \nThis is more than a walk\, it’s an opportunity to slow down\, connect with yourself\, and build meaningful relationships with others. Led by Baljit Singh\, we’ll explore how to walk with awareness\, step by step. \nSuggested donation: £12 (to support future JOC programs) \n📝 Sign up via Eventbrite — using this link or QR code \nhttps://www.eventbrite.co.uk/e/walk-with-journey-of-compassion-tickets-1443493109749?aff=oddtdtcreator \nWhether you come alone or with a friend\, you’ll leave feeling lighter\, more grounded\, and connected. \nLet’s walk with purpose\, together.
URL:https://journeyofcompassion.com/programme/conscious-walk/
LOCATION:Cannock Chase\, Glacial Boulder Car Park\, Chase Road Brocton\, Brocton\, Rugeley\, WS15 2UA\, Cannock Chase\, Glacial Boulder Car Park\, Chase Road Brocton\, Brocton\, Rugeley\, WS15 2UA\, United Kingdom
CATEGORIES:Event
ATTACH;FMTTYPE=image/jpeg:https://journeyofcompassion.com/wp-content/uploads/2025/07/2025-07-Conscious-walk.jpg
END:VEVENT
BEGIN:VEVENT
DTSTART;TZID=Europe/London:20250630T060000
DTEND;TZID=Europe/London:20250630T071500
DTSTAMP:20260421T133049
CREATED:20250607T181755Z
LAST-MODIFIED:20250607T182413Z
UID:10000598-1751263200-1751267700@journeyofcompassion.com
SUMMARY:25 Day Guided Meditation
DESCRIPTION:Sitting in the Divine’s lap  \n  \nJoin us each morning for a sacred space of stillness and devotion through gentle stretches\, breath-work\, Oan sound meditation\, Mool-Mantar\, and awe-filled presence.
URL:https://journeyofcompassion.com/programme/25-day-guided-meditation/2025-06-30/
CATEGORIES:Meditation
ATTACH;FMTTYPE=image/jpeg:https://journeyofcompassion.com/wp-content/uploads/2025/06/25day-meditiation-june.jpg
END:VEVENT
BEGIN:VEVENT
DTSTART;TZID=Europe/London:20250608T120000
DTEND;TZID=Europe/London:20250608T150000
DTSTAMP:20260421T133049
CREATED:20250522T162116Z
LAST-MODIFIED:20250607T211807Z
UID:10000564-1749384000-1749394800@journeyofcompassion.com
SUMMARY:Women's wellbeing
DESCRIPTION:Women’s wellbeing afternoon tea. Join us for our quarterly meet up in person. \nWhen: Sunday 8th June.\nTime: 12-3pm\nPrice: £30 \nAn afternoon of connection\, conversation\, and calm at our Women’s Wellbeing Gathering. \nEnjoy some nourishing time with other women over afternoon tea\, gentle activities\, and a space to simply be.\nCome as you are\, leave feeling uplifted\, supported\, and seen. \nLocation: West Midlands \nPlease complete the form and make payment to secure your place. \nClick HERE for registration form
URL:https://journeyofcompassion.com/programme/womens-wellbeing/
LOCATION:West Midlands\, West Midlands\, United Kingdom
ATTACH;FMTTYPE=image/jpeg:https://journeyofcompassion.com/wp-content/uploads/2025/05/May-womens-wellbeing.jpg
END:VEVENT
BEGIN:VEVENT
DTSTART;VALUE=DATE:20250529
DTEND;VALUE=DATE:20250602
DTSTAMP:20260421T133049
CREATED:20250516T141141Z
LAST-MODIFIED:20250518T200249Z
UID:10000010-1748476800-1748822399@journeyofcompassion.com
SUMMARY:Awakening Retreat
DESCRIPTION:This is a residential retreat in Derbyshire from 29 May to 1 June 2025 for 60 people from all walks of life (incl. religious and non-religious) \nThe transformative meditation retreat aims to emphasise inner peace and personal growth through: \n• Daily activities such as chanting\, meditation\, walks\, massages\, journaling\, and intimate conversations \n• Evening gatherings focused on singing and fostering connection \n• Understanding motives for a personalised and meaningful experience\, welcoming all\, regardless of religious background or meditation experience \nRegistration 
URL:https://journeyofcompassion.com/programme/awakening-retreat/
ATTACH;FMTTYPE=image/jpeg:https://journeyofcompassion.com/wp-content/uploads/2024/12/Awakening-Retreat-Poster-12.4.24-1.jpg
END:VEVENT
BEGIN:VEVENT
DTSTART;TZID=Europe/London:20250517T171500
DTEND;TZID=Europe/London:20250517T203000
DTSTAMP:20260421T133049
CREATED:20250514T172739Z
LAST-MODIFIED:20250518T200449Z
UID:10000001-1747502100-1747513800@journeyofcompassion.com
SUMMARY:Katha & Kirtan
DESCRIPTION:An evening to chant together\, sing together\, eat together\, and connect together. \nJoin us in a heartfelt space where like-minded souls gather to experience the Divine through Rehraas\, Aarti\, Katha & Kirtan. \nBaljit Singh will be sharing a talk to help deepen our inner connection\, and the whole evening is centred around Sangat community. \nMonthly – 17:15 – 20:30 \nSingh Sabha Gurdwara\, 80 Somerset Road\, Birmingham\, B20 2JB \nIf you’re seeking something deeper\, if you’re craving presence and connection come and join us.
URL:https://journeyofcompassion.com/programme/katha-kirtan/
LOCATION:Singh Sabha Gurdwara\, 80 Somerset Road\, Birmingham\, B20 2JB\, United Kingdom
CATEGORIES:Katha & Kirtan
ATTACH;FMTTYPE=image/jpeg:https://journeyofcompassion.com/wp-content/uploads/2025/05/17MayKirtan-scaled.jpg
END:VEVENT
END:VCALENDAR