BEGIN:VCALENDAR
VERSION:2.0
PRODID:-//Journey Of Compassion - ECPv6.15.17.1//NONSGML v1.0//EN
CALSCALE:GREGORIAN
METHOD:PUBLISH
X-ORIGINAL-URL:https://journeyofcompassion.com
X-WR-CALDESC:Events for Journey Of Compassion
REFRESH-INTERVAL;VALUE=DURATION:PT1H
X-Robots-Tag:noindex
X-PUBLISHED-TTL:PT1H
BEGIN:VTIMEZONE
TZID:Europe/London
BEGIN:DAYLIGHT
TZOFFSETFROM:+0000
TZOFFSETTO:+0100
TZNAME:BST
DTSTART:20240331T010000
END:DAYLIGHT
BEGIN:STANDARD
TZOFFSETFROM:+0100
TZOFFSETTO:+0000
TZNAME:GMT
DTSTART:20241027T010000
END:STANDARD
BEGIN:DAYLIGHT
TZOFFSETFROM:+0000
TZOFFSETTO:+0100
TZNAME:BST
DTSTART:20250330T010000
END:DAYLIGHT
BEGIN:STANDARD
TZOFFSETFROM:+0100
TZOFFSETTO:+0000
TZNAME:GMT
DTSTART:20251026T010000
END:STANDARD
BEGIN:DAYLIGHT
TZOFFSETFROM:+0000
TZOFFSETTO:+0100
TZNAME:BST
DTSTART:20260329T010000
END:DAYLIGHT
BEGIN:STANDARD
TZOFFSETFROM:+0100
TZOFFSETTO:+0000
TZNAME:GMT
DTSTART:20261025T010000
END:STANDARD
BEGIN:DAYLIGHT
TZOFFSETFROM:+0000
TZOFFSETTO:+0100
TZNAME:BST
DTSTART:20270328T010000
END:DAYLIGHT
BEGIN:STANDARD
TZOFFSETFROM:+0100
TZOFFSETTO:+0000
TZNAME:GMT
DTSTART:20271031T010000
END:STANDARD
END:VTIMEZONE
BEGIN:VEVENT
DTSTART;TZID=Europe/London:20260304T180000
DTEND;TZID=Europe/London:20260304T191500
DTSTAMP:20260421T114310
CREATED:20260303T223358Z
LAST-MODIFIED:20260303T223358Z
UID:10008293-1772647200-1772651700@journeyofcompassion.com
SUMMARY:Chill n Chat with Brotherhood of Resilience - Listening
DESCRIPTION:Listening to each other\n\nReal check-ins\na space to be heard\nGurbani-rooted reflections\nbreakwork\nVaheguru Jaap to close\n\n\nTopic: Chill n Chat with Brotherhood of Resilience \nTime: Mar 4\, 2026 06:00 PM London \nJoin Zoom Meeting \nhttps://us02web.zoom.us/j/89000240665?pwd=0xnTk8Rabq2B6BblOjYu4F26VwNtf1.1 \n  \nMeeting ID: 890 0024 0665 \nPasscode: 838633
URL:https://journeyofcompassion.com/programme/chill-n-chat-with-brotherhood-of-resilience-listening/
CATEGORIES:Mens Chill n Chat
ATTACH;FMTTYPE=image/jpeg:https://journeyofcompassion.com/wp-content/uploads/2026/03/2026-3-Chill-Chat-listening.jpg
END:VEVENT
BEGIN:VEVENT
DTSTART;TZID=Europe/London:20251203T180000
DTEND;TZID=Europe/London:20251203T190000
DTSTAMP:20260421T114310
CREATED:20250911T230017Z
LAST-MODIFIED:20251101T221044Z
UID:10005875-1764784800-1764788400@journeyofcompassion.com
SUMMARY:Mens Wellbeing Sessions
DESCRIPTION:Men’s Wellbeing Group \nA welcoming space to connect\, unwind\, and support each other. \nJoin our monthly online Chill ’n Chat sessions\, stay on track with lifestyle goals\, enjoy group walks and hikes\, and take part in weekly football. \nWe organise Ad-Hoc events on the group. \nClick HERE to join the Whatsapp group and get involved
URL:https://journeyofcompassion.com/programme/mens-wellbeing-sessions-2/2025-12-03/
CATEGORIES:Mens Chill n Chat
ATTACH;FMTTYPE=image/jpeg:https://journeyofcompassion.com/wp-content/uploads/2025/09/2025-11-General-Mens-Sessions.jpg
END:VEVENT
BEGIN:VEVENT
DTSTART;TZID=Europe/London:20251112T180000
DTEND;TZID=Europe/London:20251112T191500
DTSTAMP:20260421T114310
CREATED:20251007T161217Z
LAST-MODIFIED:20251101T221801Z
UID:10008144-1762970400-1762974900@journeyofcompassion.com
SUMMARY:Mens Chill n Chat session - Healthy Relationships
DESCRIPTION:Event Type: Chill n Chat SessionHost: Amarpreet SinghDate: Wednesday 5th November 2025Time: 6:00 PM – 7:15 PM (UK Time)Location: Online (Zoom) \n\nJoin us for an open and relaxed Chill n Chat session exploring what it means to build and maintain healthy relationships  with ourselves\, our loved ones\, and the wider world. \nHosted by Amarpreet Singh\, this session is part of the Men’s Wellbeing Series by Journey of Compassion\, offering a safe and supportive space for men to reflect\, share\, and learn together. \nWhether you’re looking to improve communication\, strengthen emotional awareness\, or simply connect with others on a similar journey\, this is a chance to unwind and talk openly in a non-judgmental space. \n\nHow to Join\n🖥️ Zoom Link: Join the session here \n\nDuration: 1 hour 15 minutesAudience: Open to all men (18+)Cost: FreeOrganised by: Journey of Compassion \n 
URL:https://journeyofcompassion.com/programme/mens-chill-n-chat-session-healthy-relationships/
CATEGORIES:Mens Chill n Chat
ATTACH;FMTTYPE=image/jpeg:https://journeyofcompassion.com/wp-content/uploads/2025/10/2025-11-Mens-Chill-Chat-Session.jpg
END:VEVENT
END:VCALENDAR