BEGIN:VCALENDAR
VERSION:2.0
PRODID:-//Journey Of Compassion - ECPv6.15.17.1//NONSGML v1.0//EN
CALSCALE:GREGORIAN
METHOD:PUBLISH
X-ORIGINAL-URL:https://journeyofcompassion.com
X-WR-CALDESC:Events for Journey Of Compassion
REFRESH-INTERVAL;VALUE=DURATION:PT1H
X-Robots-Tag:noindex
X-PUBLISHED-TTL:PT1H
BEGIN:VTIMEZONE
TZID:Europe/London
BEGIN:DAYLIGHT
TZOFFSETFROM:+0000
TZOFFSETTO:+0100
TZNAME:BST
DTSTART:20240331T010000
END:DAYLIGHT
BEGIN:STANDARD
TZOFFSETFROM:+0100
TZOFFSETTO:+0000
TZNAME:GMT
DTSTART:20241027T010000
END:STANDARD
BEGIN:DAYLIGHT
TZOFFSETFROM:+0000
TZOFFSETTO:+0100
TZNAME:BST
DTSTART:20250330T010000
END:DAYLIGHT
BEGIN:STANDARD
TZOFFSETFROM:+0100
TZOFFSETTO:+0000
TZNAME:GMT
DTSTART:20251026T010000
END:STANDARD
BEGIN:DAYLIGHT
TZOFFSETFROM:+0000
TZOFFSETTO:+0100
TZNAME:BST
DTSTART:20260329T010000
END:DAYLIGHT
BEGIN:STANDARD
TZOFFSETFROM:+0100
TZOFFSETTO:+0000
TZNAME:GMT
DTSTART:20261025T010000
END:STANDARD
BEGIN:DAYLIGHT
TZOFFSETFROM:+0000
TZOFFSETTO:+0100
TZNAME:BST
DTSTART:20270328T010000
END:DAYLIGHT
BEGIN:STANDARD
TZOFFSETFROM:+0100
TZOFFSETTO:+0000
TZNAME:GMT
DTSTART:20271031T010000
END:STANDARD
END:VTIMEZONE
BEGIN:VEVENT
DTSTART;TZID=Europe/London:20260220T060000
DTEND;TZID=Europe/London:20260220T070000
DTSTAMP:20260421T122935
CREATED:20260215T235508Z
LAST-MODIFIED:20260215T235739Z
UID:10008292-1771567200-1771570800@journeyofcompassion.com
SUMMARY:5 Day Guided Meditation Journey
DESCRIPTION:Join us for a 5 Day Guided Meditation Journey \n16th–20th February 2026 | 6:00–7:00am (London) \n  \nEach morning we’ll explore grounding breathwork\, body awareness\, Oan sound meditation\, contemplation\, mantra and silence… all centred around sitting in the Divine’s Presence. \n  \nA space to begin your day clear\, steady and absorbed within. \n  \nJoin Zoom Meeting: \nhttps://us02web.zoom.us/j/86282556691?pwd=mEVn9cD6R3Bfsaua9nQFDmdlBqtSLx.1 \n  \nMeeting ID: 862 8255 6691 \nPasscode: 321225 \n  \nAll are welcome. 🙏🏽
URL:https://journeyofcompassion.com/programme/5-day-guided-meditation-journey/2026-02-20/
CATEGORIES:Meditation
ATTACH;FMTTYPE=image/jpeg:https://journeyofcompassion.com/wp-content/uploads/2026/02/2026-2-Meditation.jpg
END:VEVENT
BEGIN:VEVENT
DTSTART;TZID=Europe/London:20250822T060000
DTEND;TZID=Europe/London:20250822T073000
DTSTAMP:20260421T122935
CREATED:20250816T181809Z
LAST-MODIFIED:20250817T125818Z
UID:10003237-1755842400-1755847800@journeyofcompassion.com
SUMMARY:40 Day Guided Meditation
DESCRIPTION:40 Day Guided Meditation – Sitting in the Divine’s Lap 🌸 \nOur next round begins today 🧘🏽‍♂️\nLet’s come together each morning for stretches\, breath-work\, Oan sound\, Mool Mantar & awe-filled stillness. \n🗓️ Mon 21st July – Fri 29th August 2025\n🕕 6am – 7:30am (UK time)\n🔗 Join Zoom Meeting
URL:https://journeyofcompassion.com/programme/40-day-guided-meditation-3-2/2025-08-22/
CATEGORIES:Meditation
ATTACH;FMTTYPE=image/jpeg:https://journeyofcompassion.com/wp-content/uploads/2025/07/2025-08-meditation-POSTPONED.jpg
END:VEVENT
BEGIN:VEVENT
DTSTART;TZID=Europe/London:20250630T060000
DTEND;TZID=Europe/London:20250630T071500
DTSTAMP:20260421T122935
CREATED:20250607T181755Z
LAST-MODIFIED:20250607T182413Z
UID:10000598-1751263200-1751267700@journeyofcompassion.com
SUMMARY:25 Day Guided Meditation
DESCRIPTION:Sitting in the Divine’s lap  \n  \nJoin us each morning for a sacred space of stillness and devotion through gentle stretches\, breath-work\, Oan sound meditation\, Mool-Mantar\, and awe-filled presence.
URL:https://journeyofcompassion.com/programme/25-day-guided-meditation/2025-06-30/
CATEGORIES:Meditation
ATTACH;FMTTYPE=image/jpeg:https://journeyofcompassion.com/wp-content/uploads/2025/06/25day-meditiation-june.jpg
END:VEVENT
END:VCALENDAR