BEGIN:VCALENDAR
VERSION:2.0
PRODID:-//Journey Of Compassion - ECPv6.15.17.1//NONSGML v1.0//EN
CALSCALE:GREGORIAN
METHOD:PUBLISH
X-WR-CALNAME:Journey Of Compassion
X-ORIGINAL-URL:https://journeyofcompassion.com
X-WR-CALDESC:Events for Journey Of Compassion
REFRESH-INTERVAL;VALUE=DURATION:PT1H
X-Robots-Tag:noindex
X-PUBLISHED-TTL:PT1H
BEGIN:VTIMEZONE
TZID:Europe/London
BEGIN:DAYLIGHT
TZOFFSETFROM:+0000
TZOFFSETTO:+0100
TZNAME:BST
DTSTART:20260329T010000
END:DAYLIGHT
BEGIN:STANDARD
TZOFFSETFROM:+0100
TZOFFSETTO:+0000
TZNAME:GMT
DTSTART:20261025T010000
END:STANDARD
BEGIN:DAYLIGHT
TZOFFSETFROM:+0000
TZOFFSETTO:+0100
TZNAME:BST
DTSTART:20270328T010000
END:DAYLIGHT
BEGIN:STANDARD
TZOFFSETFROM:+0100
TZOFFSETTO:+0000
TZNAME:GMT
DTSTART:20271031T010000
END:STANDARD
BEGIN:DAYLIGHT
TZOFFSETFROM:+0000
TZOFFSETTO:+0100
TZNAME:BST
DTSTART:20280326T010000
END:DAYLIGHT
BEGIN:STANDARD
TZOFFSETFROM:+0100
TZOFFSETTO:+0000
TZNAME:GMT
DTSTART:20281029T010000
END:STANDARD
END:VTIMEZONE
BEGIN:VEVENT
DTSTART;TZID=Europe/London:20270207T160000
DTEND;TZID=Europe/London:20270207T171000
DTSTAMP:20260425T155757
CREATED:20250516T145952Z
LAST-MODIFIED:20250902T185347Z
UID:10005974-1802016000-1802020200@journeyofcompassion.com
SUMMARY:Contemplation Sessions
DESCRIPTION:Does this sound familiar? I’m bombarded with information and knowledge\, I continue consuming in hope it will quench my inner thirst but I’m still left feeling empty. The truth is we’re all wanting to experience a deeper connection & these sessions do exactly that! They create an opportunity to slow down\, contemplate & provide simple practical tools which can have a profound effect in your life. \nClick below to sign-up for these Sessions every Sunday at 4pm (UK Time) on Zoom \nRegister Here \n 
URL:https://journeyofcompassion.com/programme/contemplation-sessions/2027-02-07/
CATEGORIES:Contemplation
ATTACH;FMTTYPE=image/jpeg:https://journeyofcompassion.com/wp-content/uploads/2025/05/May-Contemplation.jpg
END:VEVENT
BEGIN:VEVENT
DTSTART;TZID=Europe/London:20270214T160000
DTEND;TZID=Europe/London:20270214T171000
DTSTAMP:20260425T155757
CREATED:20250516T145952Z
LAST-MODIFIED:20250902T185347Z
UID:10005975-1802620800-1802625000@journeyofcompassion.com
SUMMARY:Contemplation Sessions
DESCRIPTION:Does this sound familiar? I’m bombarded with information and knowledge\, I continue consuming in hope it will quench my inner thirst but I’m still left feeling empty. The truth is we’re all wanting to experience a deeper connection & these sessions do exactly that! They create an opportunity to slow down\, contemplate & provide simple practical tools which can have a profound effect in your life. \nClick below to sign-up for these Sessions every Sunday at 4pm (UK Time) on Zoom \nRegister Here \n 
URL:https://journeyofcompassion.com/programme/contemplation-sessions/2027-02-14/
CATEGORIES:Contemplation
ATTACH;FMTTYPE=image/jpeg:https://journeyofcompassion.com/wp-content/uploads/2025/05/May-Contemplation.jpg
END:VEVENT
BEGIN:VEVENT
DTSTART;TZID=Europe/London:20270221T160000
DTEND;TZID=Europe/London:20270221T171000
DTSTAMP:20260425T155757
CREATED:20250516T145952Z
LAST-MODIFIED:20250902T185347Z
UID:10005976-1803225600-1803229800@journeyofcompassion.com
SUMMARY:Contemplation Sessions
DESCRIPTION:Does this sound familiar? I’m bombarded with information and knowledge\, I continue consuming in hope it will quench my inner thirst but I’m still left feeling empty. The truth is we’re all wanting to experience a deeper connection & these sessions do exactly that! They create an opportunity to slow down\, contemplate & provide simple practical tools which can have a profound effect in your life. \nClick below to sign-up for these Sessions every Sunday at 4pm (UK Time) on Zoom \nRegister Here \n 
URL:https://journeyofcompassion.com/programme/contemplation-sessions/2027-02-21/
CATEGORIES:Contemplation
ATTACH;FMTTYPE=image/jpeg:https://journeyofcompassion.com/wp-content/uploads/2025/05/May-Contemplation.jpg
END:VEVENT
BEGIN:VEVENT
DTSTART;TZID=Europe/London:20270228T160000
DTEND;TZID=Europe/London:20270228T171000
DTSTAMP:20260425T155757
CREATED:20250516T145952Z
LAST-MODIFIED:20250902T185347Z
UID:10005977-1803830400-1803834600@journeyofcompassion.com
SUMMARY:Contemplation Sessions
DESCRIPTION:Does this sound familiar? I’m bombarded with information and knowledge\, I continue consuming in hope it will quench my inner thirst but I’m still left feeling empty. The truth is we’re all wanting to experience a deeper connection & these sessions do exactly that! They create an opportunity to slow down\, contemplate & provide simple practical tools which can have a profound effect in your life. \nClick below to sign-up for these Sessions every Sunday at 4pm (UK Time) on Zoom \nRegister Here \n 
URL:https://journeyofcompassion.com/programme/contemplation-sessions/2027-02-28/
CATEGORIES:Contemplation
ATTACH;FMTTYPE=image/jpeg:https://journeyofcompassion.com/wp-content/uploads/2025/05/May-Contemplation.jpg
END:VEVENT
END:VCALENDAR