BEGIN:VCALENDAR
VERSION:2.0
PRODID:-//Journey Of Compassion - ECPv6.15.17.1//NONSGML v1.0//EN
CALSCALE:GREGORIAN
METHOD:PUBLISH
X-WR-CALNAME:Journey Of Compassion
X-ORIGINAL-URL:https://journeyofcompassion.com
X-WR-CALDESC:Events for Journey Of Compassion
REFRESH-INTERVAL;VALUE=DURATION:PT1H
X-Robots-Tag:noindex
X-PUBLISHED-TTL:PT1H
BEGIN:VTIMEZONE
TZID:Europe/London
BEGIN:DAYLIGHT
TZOFFSETFROM:+0000
TZOFFSETTO:+0100
TZNAME:BST
DTSTART:20250330T010000
END:DAYLIGHT
BEGIN:STANDARD
TZOFFSETFROM:+0100
TZOFFSETTO:+0000
TZNAME:GMT
DTSTART:20251026T010000
END:STANDARD
BEGIN:DAYLIGHT
TZOFFSETFROM:+0000
TZOFFSETTO:+0100
TZNAME:BST
DTSTART:20260329T010000
END:DAYLIGHT
BEGIN:STANDARD
TZOFFSETFROM:+0100
TZOFFSETTO:+0000
TZNAME:GMT
DTSTART:20261025T010000
END:STANDARD
BEGIN:DAYLIGHT
TZOFFSETFROM:+0000
TZOFFSETTO:+0100
TZNAME:BST
DTSTART:20270328T010000
END:DAYLIGHT
BEGIN:STANDARD
TZOFFSETFROM:+0100
TZOFFSETTO:+0000
TZNAME:GMT
DTSTART:20271031T010000
END:STANDARD
END:VTIMEZONE
BEGIN:VEVENT
DTSTART;TZID=Europe/London:20261101T160000
DTEND;TZID=Europe/London:20261101T171000
DTSTAMP:20260423T111700
CREATED:20250516T145952Z
LAST-MODIFIED:20250902T185347Z
UID:10005960-1793548800-1793553000@journeyofcompassion.com
SUMMARY:Contemplation Sessions
DESCRIPTION:Does this sound familiar? I’m bombarded with information and knowledge\, I continue consuming in hope it will quench my inner thirst but I’m still left feeling empty. The truth is we’re all wanting to experience a deeper connection & these sessions do exactly that! They create an opportunity to slow down\, contemplate & provide simple practical tools which can have a profound effect in your life. \nClick below to sign-up for these Sessions every Sunday at 4pm (UK Time) on Zoom \nRegister Here \n 
URL:https://journeyofcompassion.com/programme/contemplation-sessions/2026-11-01/
CATEGORIES:Contemplation
ATTACH;FMTTYPE=image/jpeg:https://journeyofcompassion.com/wp-content/uploads/2025/05/May-Contemplation.jpg
END:VEVENT
BEGIN:VEVENT
DTSTART;TZID=Europe/London:20261108T160000
DTEND;TZID=Europe/London:20261108T171000
DTSTAMP:20260423T111700
CREATED:20250516T145952Z
LAST-MODIFIED:20250902T185347Z
UID:10005961-1794153600-1794157800@journeyofcompassion.com
SUMMARY:Contemplation Sessions
DESCRIPTION:Does this sound familiar? I’m bombarded with information and knowledge\, I continue consuming in hope it will quench my inner thirst but I’m still left feeling empty. The truth is we’re all wanting to experience a deeper connection & these sessions do exactly that! They create an opportunity to slow down\, contemplate & provide simple practical tools which can have a profound effect in your life. \nClick below to sign-up for these Sessions every Sunday at 4pm (UK Time) on Zoom \nRegister Here \n 
URL:https://journeyofcompassion.com/programme/contemplation-sessions/2026-11-08/
CATEGORIES:Contemplation
ATTACH;FMTTYPE=image/jpeg:https://journeyofcompassion.com/wp-content/uploads/2025/05/May-Contemplation.jpg
END:VEVENT
BEGIN:VEVENT
DTSTART;TZID=Europe/London:20261115T160000
DTEND;TZID=Europe/London:20261115T171000
DTSTAMP:20260423T111700
CREATED:20250516T145952Z
LAST-MODIFIED:20250902T185347Z
UID:10005962-1794758400-1794762600@journeyofcompassion.com
SUMMARY:Contemplation Sessions
DESCRIPTION:Does this sound familiar? I’m bombarded with information and knowledge\, I continue consuming in hope it will quench my inner thirst but I’m still left feeling empty. The truth is we’re all wanting to experience a deeper connection & these sessions do exactly that! They create an opportunity to slow down\, contemplate & provide simple practical tools which can have a profound effect in your life. \nClick below to sign-up for these Sessions every Sunday at 4pm (UK Time) on Zoom \nRegister Here \n 
URL:https://journeyofcompassion.com/programme/contemplation-sessions/2026-11-15/
CATEGORIES:Contemplation
ATTACH;FMTTYPE=image/jpeg:https://journeyofcompassion.com/wp-content/uploads/2025/05/May-Contemplation.jpg
END:VEVENT
BEGIN:VEVENT
DTSTART;TZID=Europe/London:20261122T160000
DTEND;TZID=Europe/London:20261122T171000
DTSTAMP:20260423T111700
CREATED:20250516T145952Z
LAST-MODIFIED:20250902T185347Z
UID:10005963-1795363200-1795367400@journeyofcompassion.com
SUMMARY:Contemplation Sessions
DESCRIPTION:Does this sound familiar? I’m bombarded with information and knowledge\, I continue consuming in hope it will quench my inner thirst but I’m still left feeling empty. The truth is we’re all wanting to experience a deeper connection & these sessions do exactly that! They create an opportunity to slow down\, contemplate & provide simple practical tools which can have a profound effect in your life. \nClick below to sign-up for these Sessions every Sunday at 4pm (UK Time) on Zoom \nRegister Here \n 
URL:https://journeyofcompassion.com/programme/contemplation-sessions/2026-11-22/
CATEGORIES:Contemplation
ATTACH;FMTTYPE=image/jpeg:https://journeyofcompassion.com/wp-content/uploads/2025/05/May-Contemplation.jpg
END:VEVENT
BEGIN:VEVENT
DTSTART;TZID=Europe/London:20261129T160000
DTEND;TZID=Europe/London:20261129T171000
DTSTAMP:20260423T111700
CREATED:20250516T145952Z
LAST-MODIFIED:20250902T185347Z
UID:10005964-1795968000-1795972200@journeyofcompassion.com
SUMMARY:Contemplation Sessions
DESCRIPTION:Does this sound familiar? I’m bombarded with information and knowledge\, I continue consuming in hope it will quench my inner thirst but I’m still left feeling empty. The truth is we’re all wanting to experience a deeper connection & these sessions do exactly that! They create an opportunity to slow down\, contemplate & provide simple practical tools which can have a profound effect in your life. \nClick below to sign-up for these Sessions every Sunday at 4pm (UK Time) on Zoom \nRegister Here \n 
URL:https://journeyofcompassion.com/programme/contemplation-sessions/2026-11-29/
CATEGORIES:Contemplation
ATTACH;FMTTYPE=image/jpeg:https://journeyofcompassion.com/wp-content/uploads/2025/05/May-Contemplation.jpg
END:VEVENT
END:VCALENDAR